BEGIN:VCALENDAR
VERSION:2.0
CALSCALE:GREGORIAN
METHOD:PUBLISH
BEGIN:VEVENT
DTSTART;TZID=America/New_York:20141126T083000
DTEND;TZID=America/New_York:20141126T170000
SUMMARY:2e Journée de la recherche en sciences infirmières
DESCRIPTION:L’École des sciences infirmières de l’Université de Sherbrooke est heureuse de vous inviter à sa 2e Journée de la recherche sous le thème La lutte contre le cancer : pouvoir compter sur les infirmières qui se tiendra à l&apos;AGORA du Cam...
LOCATION:150 Place Charles LeMoyneLongueuil (QC) J4K 0A8
URL:https://rrisiq.com/fr/evenement/2e-journee-de-la-recherche-en-sciences-infirmieres
UID:quid-rrisiq-23
END:VEVENT
END:VCALENDAR