BEGIN:VCALENDAR
VERSION:2.0
CALSCALE:GREGORIAN
METHOD:PUBLISH
BEGIN:VEVENT
DTSTART;TZID=America/New_York:20240319T120000
DTEND;TZID=America/New_York:20240319T130000
SUMMARY:Analyses longitudinales : un survol des approches et applications en sciences infirmières
DESCRIPTION:Ce webinaire permettra de présenter un survol des différentes approches pour l’analyses de données longitudinales\, passant des méthodes plus simples aux méthodes de modélisation plus complexes. Le webinaire est offert gratuitement et est ouver...
LOCATION:
URL:https://rrisiq.com/fr/evenement/analyses-longitudinales-un-survol-des-approches-et-applications-en-sciences-infirmieres
UID:quid-rrisiq-122
END:VEVENT
END:VCALENDAR