BEGIN:VCALENDAR
VERSION:2.0
CALSCALE:GREGORIAN
METHOD:PUBLISH
BEGIN:VEVENT
DTSTART;TZID=America/New_York:20141105T113000
DTEND;TZID=America/New_York:20141105T180000
SUMMARY:Assemblée annuelle des membres du RRISIQ
DESCRIPTION:Nous invitons tous nos membres (étudiants\, chercheurs réguliers\, décideurs\, cliniciens\, chercheurs associés\,...) à se joindre à nous. N’oubliez pas d’ajouter cette rencontre à vos calendriers et de vous inscrire dès maintenant en cliqu...
LOCATION:3450 McTavish Street\, Montréal\, Québec H3A 0E5
URL:https://rrisiq.com/fr/evenement/assemblee-annuelle-des-membres-du-rrisiq
UID:quid-rrisiq-28
END:VEVENT
END:VCALENDAR