BEGIN:VCALENDAR
VERSION:2.0
CALSCALE:GREGORIAN
METHOD:PUBLISH
BEGIN:VEVENT
DTSTART;TZID=America/New_York:20180823T090000
DTEND;TZID=America/New_York:20180823T120000
SUMMARY:Atelier de préparation de demande pour Chercheurs-boursiers FRQS
DESCRIPTION:Animé par : Nancy FeeleyCodirectrice du RRISIQ Professeure adjointe\, École des sciences infirmières Ingram -Université McGill Sylvie Le MayProfesseure titulaire \, Faculté des sciences infirmières -Université de Montréal Directrice adjointe...
LOCATION:École des sciences infirmières Ingram -Université McGill 680 Sherbrooke Ouest\, Suite 1800\, salle 1822
URL:https://rrisiq.com/fr/evenement/atelier-de-preparation-de-demande-pour-chercheurs-boursiers-frqs
UID:quid-rrisiq-80
END:VEVENT
END:VCALENDAR