BEGIN:VCALENDAR
VERSION:2.0
CALSCALE:GREGORIAN
METHOD:PUBLISH
BEGIN:VEVENT
DTSTART;TZID=America/New_York:20200610T120000
DTEND;TZID=America/New_York:20200610T140000
SUMMARY:Atelier - Demande de chercheur boursier FRQS
DESCRIPTION:Conférencières principales: Sylvie Le May\, inf.\, PhD Professeure titulaire\, Faculté des sciences infirmières - Université de Montréal Chercheur sénior\, Centre de Recherche du CHU Sainte-Justine. Nancy Feeley\, inf.\, PhD Professeure agrégé...
LOCATION:2375 Chemin de la Côte Sainte-Catherine...
URL:https://rrisiq.com/fr/evenement/atelier-demande-de-chercheur-boursier-frqs
UID:quid-rrisiq-93
END:VEVENT
END:VCALENDAR