BEGIN:VCALENDAR
VERSION:2.0
CALSCALE:GREGORIAN
METHOD:PUBLISH
BEGIN:VEVENT
DTSTART;TZID=America/New_York:20190206T090000
DTEND;TZID=America/New_York:20190206T120000
SUMMARY:Atelier: « Revues systématiques et méta-analyses: L’utilisation du logiciel RevMan »
DESCRIPTION:Atelier présenté par: Chantal Roy Adjointe au Chef d'Unité Unité de recherche clinique appliquée (URCA) Centre de recherche du CHU Sainte-Justine. Résumé Review Manager (RevMan) est un logiciel gratuit développé par la Collaboration Cochrane. ...
LOCATION:2375\, ch. de la Côte Ste-Catherine\, Montréal
URL:https://rrisiq.com/fr/evenement/atelier-revues-systematiques-et-meta-analyses-utilisation-du-logiciel-revman-2019-02-06
UID:quid-rrisiq-85
END:VEVENT
END:VCALENDAR