BEGIN:VCALENDAR
VERSION:2.0
CALSCALE:GREGORIAN
METHOD:PUBLISH
BEGIN:VEVENT
DTSTART;TZID=America/New_York:20180208T090000
DTEND;TZID=America/New_York:20180208T120000
SUMMARY:Atelier: « Revues systématiques et méta-analyses: L’utilisation du logiciel RevMan »
DESCRIPTION:Atelier présenté par:Chantal RoyAdjointe au Chef d&apos;Unité Unité de recherche clinique appliquée (URCA)Centre de recherche du CHU Sainte-JustineRésuméReview Manager (RevMan) est un logiciel gratuit développé par la Collaboration Cochrane. I...
LOCATION:2375\, ch. de la Côte Ste-Catherine\, Montréal
URL:https://rrisiq.com/fr/evenement/atelier-revues-systematiques-et-meta-analyses-utilisation-du-logiciel-revman
UID:quid-rrisiq-74
END:VEVENT
END:VCALENDAR