BEGIN:VCALENDAR
VERSION:2.0
CALSCALE:GREGORIAN
METHOD:PUBLISH
BEGIN:VEVENT
DTSTART;TZID=America/New_York:20150513T070000
DTEND;TZID=America/New_York:20150513T170000
SUMMARY:Colloque Alice-Girard
DESCRIPTION:Le Colloque Alice-Girard organisé par la Faculté des sciences infirmières de l&apos;Université de Montréal\, une activité proposée dans le cadre de la Semaine de l’infirmière.L’objectif de ce colloque annuel est d’encourager l’excellenc...
LOCATION:Université Laval
URL:https://rrisiq.com/fr/evenement/colloque-alice-girard
UID:quid-rrisiq-34
END:VEVENT
END:VCALENDAR