BEGIN:VCALENDAR
VERSION:2.0
CALSCALE:GREGORIAN
METHOD:PUBLISH
BEGIN:VEVENT
DTSTART;TZID=America/New_York:20231129T120000
DTEND;TZID=America/New_York:20231129T130000
SUMMARY:Communication scientifique avec les milieux communautaires et politiques
DESCRIPTION:Avec cet atelier\, les conférencières souhaitent exposer les participants.es à des perspectives innovantes et critiques sur la communication scientifique infirmière et offrir des outils de compréhension de la communication scientifique spécifique...
LOCATION:
URL:https://rrisiq.com/fr/evenement/communication-scientifique-avec-les-milieux-communautaires-et-politiques
UID:quid-rrisiq-111
END:VEVENT
END:VCALENDAR