BEGIN:VCALENDAR
VERSION:2.0
CALSCALE:GREGORIAN
METHOD:PUBLISH
BEGIN:VEVENT
DTSTART;TZID=America/New_York:20180321T120000
DTEND;TZID=America/New_York:20180321T133000
SUMMARY:Conférence « Bâtir une carrière de recherche : Défis et leçons apprises. »
DESCRIPTION:Conférence RRISIQ de Nicole Dubuc: « Bâtir une carrière de recherche : Défis et leçons apprises. »
LOCATION:Campus de la santé - Université de Sherbrooke
URL:https://rrisiq.com/fr/evenement/conference-batir-une-carriere-de-recherche-defis-et-lecons-apprises
UID:quid-rrisiq-75
END:VEVENT
END:VCALENDAR