BEGIN:VCALENDAR
VERSION:2.0
CALSCALE:GREGORIAN
METHOD:PUBLISH
BEGIN:VEVENT
DTSTART;TZID=America/New_York:20171116T120000
DTEND;TZID=America/New_York:20171116T133000
SUMMARY:Conférence: « A Case Study Exploring Employment Factors Affecting General Practice Nurse Role Development »
DESCRIPTION:Conférence présentée par:Dre Sue Crossman\, PhDRoyaume-UniFormée en sciences infirmières\, Dre Sue Crossman a été titulaire de postes sénior en administration des services de santé\, en éducation et en recherche. Elle s’est particulièremen...
LOCATION:Pavillon Marguerite-d'Youville\, 2375 Ch de la Côte-Sainte-Catherine\, Montreal\, QC H3T 1A8
URL:https://rrisiq.com/fr/evenement/conference-case-study-exploring-employment-factors-affecting-general-practice-nurse-role-development
UID:quid-rrisiq-68
END:VEVENT
END:VCALENDAR