BEGIN:VCALENDAR
VERSION:2.0
CALSCALE:GREGORIAN
METHOD:PUBLISH
BEGIN:VEVENT
DTSTART;TZID=America/New_York:20160927T120000
DTEND;TZID=America/New_York:20160927T133000
SUMMARY:Conférence: « Comment diffuser ses recherches au grand public?  »
DESCRIPTION:CONFÉRENCE PRÉSENTÉE PAR:Valérie BordeJournaliste scientifiqueMagazine L’ActualitéChargée de coursDépartement d’information et de communicationUniversité LavalLes chercheurs sont de plus en plus souvent amenés à vulgariser leurs travaux d...
LOCATION:Pavillon Ferdinand-Vandry\, Avenue de la Médecine\, Ville de Québec\, QC
URL:https://rrisiq.com/fr/evenement/conference-comment-diffuser-ses-recherches-au-grand-public
UID:quid-rrisiq-50
END:VEVENT
END:VCALENDAR