BEGIN:VCALENDAR
VERSION:2.0
CALSCALE:GREGORIAN
METHOD:PUBLISH
BEGIN:VEVENT
DTSTART;TZID=America/New_York:20151005T120000
DTEND;TZID=America/New_York:20151005T133000
SUMMARY:Conférence Dr Pai « Open Access Publishing:  the Good\, the Bad\, and the Ugly »
DESCRIPTION:Conférence :  « Open Access Publishing: the Good\, the Bad\, and the Ugly »Présentée par : Professeur Madhukar Pai\, Ph.D.Canada Research Chair in Translational Epidemiology &amp;amp; Global HealthDirecteur\, McGill Global Health associé...
LOCATION:805\, rue Sherbrooke Ouest- Montréal\, QC\, H3A 0B9
URL:https://rrisiq.com/fr/evenement/conference-dr-pai-open-access-publishing-the-good-the-bad-and-the-ugly
UID:quid-rrisiq-39
END:VEVENT
END:VCALENDAR