BEGIN:VCALENDAR
VERSION:2.0
CALSCALE:GREGORIAN
METHOD:PUBLISH
BEGIN:VEVENT
DTSTART;TZID=America/New_York:20160114T113000
DTEND;TZID=America/New_York:20160114T130000
SUMMARY:Conférence: « Études pilotes: les bonnes questions\, les mauvaises questions\, et les questions qui font mal. »
DESCRIPTION:CONFÉRENCE PRÉSENTÉE PAR:Sylvie Cossette\, Ph.D.Professeure titulaire\, Université de Montréal\, FSICo-Directrice\, RRISIQSylvie Cossette\, inf\, PhD est Vice-doyenne à la recherche et au développement international et Professeure titulaire à l...
LOCATION:2375\, chemin de la Côte Ste-Catherine\, Montreal
URL:https://rrisiq.com/fr/evenement/conference-etudes-pilotes-les-bonnes-questions-les-mauvaises-questions-et-les-questions-qui-font-mal
UID:quid-rrisiq-41
END:VEVENT
END:VCALENDAR