BEGIN:VCALENDAR
VERSION:2.0
CALSCALE:GREGORIAN
METHOD:PUBLISH
BEGIN:VEVENT
DTSTART;TZID=America/New_York:20151119T120000
DTEND;TZID=America/New_York:20151119T133000
SUMMARY:Conférence « Évaluer les interventions complexes: tendances actuelles »
DESCRIPTION:CONFÉRENCE PRÉSENTÉE PAR:Astrid Brousselle\, Ph.D.Professeure titulaireDépartement des sciences de la santé communautaireCentre de recherche de l&apos;hôpital Charles-LeMoyne - Université de SherbrookeTitulaire de la Chaire de recherche du Canad...
LOCATION:2375\, chemin de la Côte Ste-Catherine\, Montreal
URL:https://rrisiq.com/fr/evenement/conference-evaluer-les-interventions-complexes-tendances-actuelles
UID:quid-rrisiq-40
END:VEVENT
END:VCALENDAR