BEGIN:VCALENDAR
VERSION:2.0
CALSCALE:GREGORIAN
METHOD:PUBLISH
BEGIN:VEVENT
DTSTART;TZID=America/New_York:20151013T000000
DTEND;TZID=America/New_York:20151015T120000
SUMMARY:Conference Internationale: Researching Complex Interventions in Health: The State of the Art
DESCRIPTION:Researching Complex Interventions in Health: The State of the ArtAn International Conference13 - 15 Octobre 2015Université d&apos;Exeter\, Royaume-Uni à l&apos;Hôtel RougemontCette conférence réunira les principaux bailleurs de fonds internationau...
LOCATION:Thistle Exeter City CentreQueen StreetExeter EX4 3SP
URL:https://rrisiq.com/fr/evenement/conference-internationale-researching-complex-interventions-in-health-the-state-of-the-art
UID:quid-rrisiq-31
END:VEVENT
END:VCALENDAR