BEGIN:VCALENDAR
VERSION:2.0
CALSCALE:GREGORIAN
METHOD:PUBLISH
BEGIN:VEVENT
DTSTART;TZID=America/New_York:20170124T120000
DTEND;TZID=America/New_York:20170124T133000
SUMMARY:Conférence: « La pratique infirmière à l’ère de la cybersanté. »
DESCRIPTION:Conférence présentée par :José Côté\, inf.\, PhDProfesseure titulaireFaculté des sciences infirmièresUniversité de MontréaletGeneviève Rouleau\, inf.\, PhD(c)Faculté des sciences infirmièresUniversité LavalRésuméLe déploiement des de e...
LOCATION:2375\, chemin de la Côte Ste-Catherine\, Montreal
URL:https://rrisiq.com/fr/evenement/conference-la-pratique-infirmiere-ere-de-la-cybersante
UID:quid-rrisiq-56
END:VEVENT
END:VCALENDAR