BEGIN:VCALENDAR
VERSION:2.0
CALSCALE:GREGORIAN
METHOD:PUBLISH
BEGIN:VEVENT
DTSTART;TZID=America/New_York:20150423T115900
DTEND;TZID=America/New_York:20150423T140000
SUMMARY:Conférence : La pratique réflexive infirmière en milieu clinique
DESCRIPTION:Conférence : La pratique réflexive infirmière en milieu cliniqueConférence organisée par la Faculté des sciences infirmières de l&apos;Université de Montréal avec Véronique Dubé\, inf.\, Ph.D. sous le titre : « La pratique réflexive en...
LOCATION:2375\, chemin de la Côte-Sainte-Catherine Montréal\, QC canada H3T 1A8...
URL:https://rrisiq.com/fr/evenement/conference-la-pratique-reflexive-infirmiere-en-milieu-clinique
UID:quid-rrisiq-36
END:VEVENT
END:VCALENDAR