BEGIN:VCALENDAR
VERSION:2.0
CALSCALE:GREGORIAN
METHOD:PUBLISH
BEGIN:VEVENT
DTSTART;TZID=America/New_York:20171027T120000
DTEND;TZID=America/New_York:20171027T133000
SUMMARY:Conférence: « Le développement des sciences infirmières en France »
DESCRIPTION:Conférence présentée par:Sébastien Colson\, inf. PhD Maître de conférences\, enseignant-chercheurDépartement Universitaire de Sciences InfirmièresFaculté de Médecine d’Aix-Marseille UniversitéProfesseur associéFaculté de sciences...
LOCATION:2375 Ch de la Côte-Sainte-Catherine\, Montreal\, QC H3T 1A8
URL:https://rrisiq.com/fr/evenement/conference-le-developpement-des-sciences-infirmieres-en-france
UID:quid-rrisiq-69
END:VEVENT
END:VCALENDAR