BEGIN:VCALENDAR
VERSION:2.0
CALSCALE:GREGORIAN
METHOD:PUBLISH
BEGIN:VEVENT
DTSTART;TZID=America/New_York:20161110T120000
DTEND;TZID=America/New_York:20161110T133000
SUMMARY:Conférence: « Nursing Intervention Development Research: The Process in Four Different Contexts. »
DESCRIPTION:CONFÉRENCE PRÉSENTÉE PAR:Nancy Feeley\, Inf.\, PhDProfesseure agrégéeIngram School of NursingUniversité McGillSylvie Lambert\, Inf.\, PhDProfesseure adjointeIngram School of NursingUniversité McGillMelanie Berubé\, Inf.Candidate au doctoratIngr...
LOCATION:2375\, chemin de la Côte Ste-Catherine\, Montreal
URL:https://rrisiq.com/fr/evenement/conference-nursing-intervention-development-research-the-process-in-four-different-contexts
UID:quid-rrisiq-49
END:VEVENT
END:VCALENDAR