BEGIN:VCALENDAR
VERSION:2.0
CALSCALE:GREGORIAN
METHOD:PUBLISH
BEGIN:VEVENT
DTSTART;TZID=America/New_York:20150313T100000
DTEND;TZID=America/New_York:20150313T113000
SUMMARY:Conference : « RCTs and Knowledge Translation:   Why do we let the Perfect be the enemy of the Good »
DESCRIPTION:Presenté par : Sumit R. Majumdar\, MD MPH FRCPC FACPProfesseur de MédecineNommé président en gestion de la santé des patientsFacultés de médecine\, de dentisterie\, de pharmacie et des sciences pharmaceutiquesUniversity of AlbertaCOMPLETLes essa...
LOCATION:Université McGill 805\, rue Sherbrooke Ouest- Montréal\, QC H3A 0B9
URL:https://rrisiq.com/fr/evenement/conference-rcts-and-knowledge-translation-why-do-we-let-the-perfect-be-the-enemy-of-the-good
UID:quid-rrisiq-33
END:VEVENT
END:VCALENDAR