BEGIN:VCALENDAR
VERSION:2.0
CALSCALE:GREGORIAN
METHOD:PUBLISH
BEGIN:VEVENT
DTSTART;TZID=America/New_York:20150217T090000
DTEND;TZID=America/New_York:20150217T115900
SUMMARY:Conférence : Revues systématiques\, Cochrane et méta-analyse - historique et utilités -
DESCRIPTION:Présentée par :Dr Jacques Lacroix\, M.D.\, F.R.C.P.C.\, F.A.A.P. Pédiatre chercheur - CHU - Hôpital Sainte-JustineInscription : avant le 2 février 2015. - Cliquez sur le bouton bleu situé en haut à gauche de cette page ( seulement pour les...
LOCATION:2375\, ch. de la Côte Ste-Catherine
URL:https://rrisiq.com/fr/evenement/conference-revues-systematiques-cochrane-et-meta-analyse-historique-et-utilites
UID:quid-rrisiq-6
END:VEVENT
END:VCALENDAR