BEGIN:VCALENDAR
VERSION:2.0
CALSCALE:GREGORIAN
METHOD:PUBLISH
BEGIN:VEVENT
DTSTART;TZID=America/New_York:20170111T113000
DTEND;TZID=America/New_York:20170111T123000
SUMMARY:Conférence SIDIIEF: « Pratique infirmière avancée : résultats de recherche »
DESCRIPTION:« Pratique infirmière avancée : résultats de recherche »Qualité des soins et sécurité des patientsMercredi 11 janvier 2017 à 11 h 30 (heure du Québec/GMT – 5)ConférencierSean CLARKE\, infirmier\, Ph. D.Vice-doyen aux affaires du 1er cycle ...
LOCATION:4200 Rue Molson\, Montréal\, QC H1Y 3L1
URL:https://rrisiq.com/fr/evenement/conference-sidiief-pratique-infirmiere-avancee-resultats-de-recherche
UID:quid-rrisiq-54
END:VEVENT
END:VCALENDAR