BEGIN:VCALENDAR
VERSION:2.0
CALSCALE:GREGORIAN
METHOD:PUBLISH
BEGIN:VEVENT
DTSTART;TZID=America/New_York:20140218T090000
DTEND;TZID=America/New_York:20140218T120000
SUMMARY:Conférence sur la méta-analyse selon la méthode Cochrane
DESCRIPTION:Présenté par Dr. Jacques Lacroix\, M.D. Hôpital Sainte‐Justine 9:00 - 12:00: Dr. Jacques Lacroix\, M.D. Hôpital Sainte‐Justine: « Revues systématiques\, Cochrane et méta‐analyse: Historique et utilités » (local 1084)Site des de -...
LOCATION:2375\, chemin de la Côte Ste-Catherine\, Montreal
URL:https://rrisiq.com/fr/evenement/conference-sur-la-meta-analyse-selon-la-methode-cochrane
UID:quid-rrisiq-3
END:VEVENT
END:VCALENDAR