BEGIN:VCALENDAR
VERSION:2.0
CALSCALE:GREGORIAN
METHOD:PUBLISH
BEGIN:VEVENT
DTSTART;TZID=America/New_York:20160324T120000
DTEND;TZID=America/New_York:20160324T133000
SUMMARY:Conférence: « The Nursing Activities Score (NAS) and cost estimation in Intensive Care Unit. »
DESCRIPTION:CONFÉRENCE PRÉSENTÉE PAR:Dr. D. Reis MirandaProfesseur émérite University Medical Center of GroningenPays-Bas« Le NURSING ACTIVITIES SCORE (NAS) contribue à la gestion des soins infirmiers prodigués aux patients et à leurs familles dans les...
LOCATION:Pavillon Ferdinand-Vandry\, Avenue de la Médecine\, Ville de Québec\, QC
URL:https://rrisiq.com/fr/evenement/conference-the-nursing-activities-score-nas-and-cost-estimation-in-intensive-care-unit
UID:quid-rrisiq-46
END:VEVENT
END:VCALENDAR