BEGIN:VCALENDAR
VERSION:2.0
CALSCALE:GREGORIAN
METHOD:PUBLISH
BEGIN:VEVENT
DTSTART;TZID=America/New_York:20180406T083000
DTEND;TZID=America/New_York:20180406T123000
SUMMARY:CONNECTER LE CORPS ET L’ESPRIT lors des interventions relatives aux maladies physiques
DESCRIPTION:13ième journée annuelle de la recherchedu département de psychiatrie
LOCATION:4333\, Chemin de la Côte-Ste-Catherine\, Montréal
URL:https://rrisiq.com/fr/evenement/connecter-le-corps-et-esprit-lors-des-interventions-relatives-aux-maladies-physiques
UID:quid-rrisiq-77
END:VEVENT
END:VCALENDAR