BEGIN:VCALENDAR
VERSION:2.0
CALSCALE:GREGORIAN
METHOD:PUBLISH
BEGIN:VEVENT
DTSTART;TZID=America/New_York:20140115T100000
DTEND;TZID=America/New_York:20140115T113000
SUMMARY:"Using the cohort multiple randomized controlled trial (cmRCT) design for pragmatic intervention trials: An example from a rare disease context."
DESCRIPTION:par Dr Brett ThombsWilliam Dawson Scholar and Associate Professor\, McGill UniversitySenior Investigator\, Lady Davis Institute for Medical Research\, Jewish General HospitalDr Thombs présentera une nouvelle approche pour la conception des essais...
LOCATION:Université McGill Burnside Hall\, room B107rn805 rue Sherbrooke Ouest Montreal Quebec CanadarnH3A 0B9
URL:https://rrisiq.com/fr/evenement/controlled-trial-cmrct-design-for-pragmatic-intervention-trials-an-example-from-rare-disease-context
UID:quid-rrisiq-10
END:VEVENT
END:VCALENDAR