BEGIN:VCALENDAR
VERSION:2.0
CALSCALE:GREGORIAN
METHOD:PUBLISH
BEGIN:VEVENT
DTSTART;TZID=America/New_York:20231219T120000
DTEND;TZID=America/New_York:20231219T130000
SUMMARY:Perspective critique en histoire : pour une analyse politique de la discipline et de la profession infirmière
DESCRIPTION:Dans le cadre de cette présentation\, à l’aide d’approches critiques\, vous êtes invités.es à revisiter l’histoire des sciences infirmières. Les concepts élaborés par les auteurs postmodernes permettent d’explorer les phénomènes selon...
LOCATION:
URL:https://rrisiq.com/fr/evenement/critique-en-histoire-pour-une-analyse-politique-de-la-discipline-et-de-la-profession-infirmiere
UID:quid-rrisiq-113
END:VEVENT
END:VCALENDAR