BEGIN:VCALENDAR
VERSION:2.0
CALSCALE:GREGORIAN
METHOD:PUBLISH
BEGIN:VEVENT
DTSTART;TZID=America/New_York:20180417T120000
DTEND;TZID=America/New_York:20180417T133000
SUMMARY:Développement et implantation d’une communauté virtuelle de pratique pour favoriser l’implantation des meilleures pratiques dans les unités de soins intensifs néonatals: la CVP-Neon@t
DESCRIPTION:Conférence RRISIQ de Marilyn Aita et Sonia Semenic « Développement et implantation d’une communauté virtuelle de pratique pour favoriser l’implantation des meilleures pratiques dans les unités de soins intensifs néonatals: la CVP-Neon@t »
LOCATION:2375\, Chemin de la Côte Ste-Catherine\, Montréal
URL:https://rrisiq.com/fr/evenement/de-implantation-des-meilleures-pratiques-dans-les-unites-de-soins-intensifs-neonatals-la-cvp-neon-t
UID:quid-rrisiq-78
END:VEVENT
END:VCALENDAR