BEGIN:VCALENDAR
VERSION:2.0
CALSCALE:GREGORIAN
METHOD:PUBLISH
BEGIN:VEVENT
DTSTART;TZID=America/New_York:20160208T120000
DTEND;TZID=America/New_York:20160208T133000
SUMMARY:Conférence: « Développement d’indicateurs de la qualité sensibles aux soins infirmiers : méthodes et perspectives »
DESCRIPTION:CONFÉRENCE PRÉSENTÉE PAR:Carl-Ardy DuboisProfesseure titulaire Faculté des sciences infirmières\, Université de MontréalDanielle D&apos;AmourProfesseure titulaire Faculté des sciences infirmières\, Université de Montréal« Cette présentatio...
LOCATION:2375\, chemin de la Côte Ste-Catherine\, Montreal
URL:https://rrisiq.com/fr/evenement/developpement-indicateurs-de-la-qualite-sensibles-aux-soins-infirmiers-methodes-et-perspectives
UID:quid-rrisiq-43
END:VEVENT
END:VCALENDAR