BEGIN:VCALENDAR
VERSION:2.0
CALSCALE:GREGORIAN
METHOD:PUBLISH
BEGIN:VEVENT
DTSTART;TZID=America/New_York:20231123T093000
DTEND;TZID=America/New_York:20231123T110000
SUMMARY:Au-delà du doctorat en sciences infirmières : mobiliser ses compétences et tracer sa route professionnelle à la suite de ses études...
DESCRIPTION:Cette activité se veut une occasion unique d’échanger avec quatre panélistes gradué(e)s du doctorat en sciences infirmières et qui ont emprunté différentes voies professionnelles à la suite de ce programme. Chaque panéliste partagera son son...
LOCATION:
URL:https://rrisiq.com/fr/evenement/en-sciences-infirmieres-decouvrir-sa-voie-et-tracer-sa-route-professionnelle-la-suite-de-ses-etudes
UID:quid-rrisiq-108
END:VEVENT
END:VCALENDAR