BEGIN:VCALENDAR
VERSION:2.0
CALSCALE:GREGORIAN
METHOD:PUBLISH
BEGIN:VEVENT
DTSTART;TZID=America/New_York:20140417T120000
DTEND;TZID=America/New_York:20140417T133000
SUMMARY:« Rehaussement des exigences d'entrée dans la profession infirmière - Que peut-on apprendre des expériences internationales? »
DESCRIPTION:Conférenciers invités: Carl-Ardy Dubois\, M.D.\, M.Sc.\, Ph.D. et Jacinthe Pepin\, Inf.\, Ph.D.Résumé de la présentation: Au cours des 30 dernières années\, les programmes de formation conduisant à l’obtention du titre d’infirmière et les...
LOCATION:1301\, rue Sherbrooke Est\, Montréal\, QC
URL:https://rrisiq.com/fr/evenement/exigences-entree-dans-la-profession-infirmiere-que-peut-on-apprendre-des-experiences-internationales
UID:quid-rrisiq-17
END:VEVENT
END:VCALENDAR