BEGIN:VCALENDAR
VERSION:2.0
CALSCALE:GREGORIAN
METHOD:PUBLISH
BEGIN:VEVENT
DTSTART;TZID=America/New_York:20241022T120000
DTEND;TZID=America/New_York:20241022T130000
SUMMARY:Quelles stratégies de mise en œuvre prioriser pour favoriser l'adoption des meilleures pratiques ? Perspectives issues d'une revue systématique de 204 études
DESCRIPTION:Cette conférence offrira une analyse approfondie des stratégies de mise en œuvre\, avec un focus sur les stratégies qui devraient être priorisées pour favoriser l'adoption durable de pratiques fondées sur des données probantes dans les soins de...
LOCATION:
URL:https://rrisiq.com/fr/evenement/favoriser-adoption-des-meilleures-pratiques-perspectives-issues-une-revue-systematique-de-204-etudes
UID:quid-rrisiq-137
END:VEVENT
END:VCALENDAR