BEGIN:VCALENDAR
VERSION:2.0
CALSCALE:GREGORIAN
METHOD:PUBLISH
BEGIN:VEVENT
DTSTART;TZID=America/New_York:20140903T090000
DTEND;TZID=America/New_York:20140903T163000
SUMMARY:Formation "Approche par compétences" (jour 2)
DESCRIPTION:Le Centre d&apos;innovation en formation infirmière (CIFI) de la Faculté des sciences infirmières de l&apos;Université de Montréal offre un module de deux journées d’activités pédagogiques pour permettre aux participants de s&apos;initier aux...
LOCATION:2375 chemin de la Côte-Ste-Catherine\, Montréal\, QC\, H3T 1A8
URL:https://rrisiq.com/fr/evenement/formation-approche-par-competences-jour-2
UID:quid-rrisiq-20
END:VEVENT
END:VCALENDAR