BEGIN:VCALENDAR
VERSION:2.0
CALSCALE:GREGORIAN
METHOD:PUBLISH
BEGIN:VEVENT
DTSTART;TZID=America/New_York:20141021T130000
DTEND;TZID=America/New_York:20141021T143000
SUMMARY:"Implantation des IPS en première ligne au Québec : modèles\, défis et promesses"
DESCRIPTION:Par Damien Contandriopoulos Professeur agrégéFaculté des sciences infirmieres\, Université de MontréalCette conférence discute des résultats finaux d’un projet de recherche sur le déploiement des infirmières praticiennes spécialisées de...
LOCATION:2375\, chemin de la Côte Ste-CatherineMontréal\, QuébecH3T 1A8
URL:https://rrisiq.com/fr/evenement/implantation-des-ips-en-premiere-ligne-au-quebec-modeles-defis-et-promesses
UID:quid-rrisiq-24
END:VEVENT
END:VCALENDAR