BEGIN:VCALENDAR
VERSION:2.0
CALSCALE:GREGORIAN
METHOD:PUBLISH
BEGIN:VEVENT
DTSTART;TZID=America/New_York:20171130T080000
DTEND;TZID=America/New_York:20171130T160000
SUMMARY:Infirmières et recherche en perspective: 36e conférence annuelle
DESCRIPTION:L’IMPORTANCE DE LA SANTÉ MENTALE: OUTILLER LES INFIRMIÈRES(IERS) À PRENDRE SOIN DES PATIENTS AVEC DES PROBLÈMES DE SANTÉ PHYSIQUE ET MENTALEVoir le document ci-dessous pour plus d&apos;information...
LOCATION:1001\, Boul. Décarie\, Montréal\, PQ. H4A 3J1
URL:https://rrisiq.com/fr/evenement/infirmieres-et-recherche-en-perspective-36e-conference-annuelle
UID:quid-rrisiq-71
END:VEVENT
END:VCALENDAR