BEGIN:VCALENDAR
VERSION:2.0
CALSCALE:GREGORIAN
METHOD:PUBLISH
BEGIN:VEVENT
DTSTART;TZID=America/New_York:20150527T170000
DTEND;TZID=America/New_York:20150527T190000
SUMMARY:Interdépendance entre chercheurs et journalistes: Défis et bonnes pratiques
DESCRIPTION:Il existe une tendance mondiale à valoriser – au moins dans les discours – des décisions et des politiques qui intègrent les connaissances scientifiques. Parallèlement\, les organismes subventionnaires exigent des chercheurs d&apos;être de plu...
LOCATION:475 Boul de Maisonneuve E Montréal\, QC H2L 5C4
URL:https://rrisiq.com/fr/evenement/interdependance-entre-chercheurs-et-journalistes-defis-et-bonnes-pratiques
UID:quid-rrisiq-38
END:VEVENT
END:VCALENDAR