BEGIN:VCALENDAR
VERSION:2.0
CALSCALE:GREGORIAN
METHOD:PUBLISH
BEGIN:VEVENT
DTSTART;TZID=America/New_York:20250226T120000
DTEND;TZID=America/New_York:20250226T131500
SUMMARY:Comment favoriser la pérennité des pratiques et des interventions fondées sur des données probantes ? État des connaissances et pistes de recherche future
DESCRIPTION:À l'échelle mondiale\, on estime qu'un quart de billion de dollars américains est consommé annuellement dans les secteurs public et privé pour la recherche biomédicale\, clinique et sur les services de santé. Malheureusement\, il appert qu'une d...
LOCATION:
URL:https://rrisiq.com/fr/evenement/interventions-fondees-sur-des-donnees-probantes-etat-des-connaissances-et-pistes-de-recherche-future
UID:quid-rrisiq-146
END:VEVENT
END:VCALENDAR