BEGIN:VCALENDAR
VERSION:2.0
CALSCALE:GREGORIAN
METHOD:PUBLISH
BEGIN:VEVENT
DTSTART;TZID=America/New_York:20190509T080000
DTEND;TZID=America/New_York:20190511T160000
SUMMARY:Introduction à la Méthodologie Réaliste
DESCRIPTION:Introduction à la Méthodologie Réaliste jeudi 9 et vendredi 10 mai 2019. Journée de consultation sur la Méthodologie Réaliste samedi le 11 mai 2019. Cet atelier vise des étudiants-tes ou chercheurs-ses\, qui débutent dans la méthodologie ou...
LOCATION:2375 Chemin de la Côte-Sainte-Catherine\, Montreal\, QC H3T 1A8
URL:https://rrisiq.com/fr/evenement/introduction-la-methodologie-realiste
UID:quid-rrisiq-84
END:VEVENT
END:VCALENDAR