BEGIN:VCALENDAR
VERSION:2.0
CALSCALE:GREGORIAN
METHOD:PUBLISH
BEGIN:VEVENT
DTSTART;TZID=America/New_York:20160513T090000
DTEND;TZID=America/New_York:20160513T173000
SUMMARY:Journée scientifique annuelle RRISIQ- 2016
DESCRIPTION: &quot;L&apos;engagement-patient en recherche&quot;Tous nos membres (chercheurs réguliers\, chercheurs associés\, étudiants\, cliniciens\,  décideurs\, membres du CA\, etc.) sont invités à se joindre à nous.Inscrivez-vous dès maintenant! (La...
LOCATION:McGill New Residence Hall 3625 Avenue du Parc\, Montréal\, Québec H2X 3P8
URL:https://rrisiq.com/fr/evenement/journee-scientifique-annuelle-rrisiq-2016
UID:quid-rrisiq-47
END:VEVENT
END:VCALENDAR