BEGIN:VCALENDAR
VERSION:2.0
CALSCALE:GREGORIAN
METHOD:PUBLISH
BEGIN:VEVENT
DTSTART;TZID=America/New_York:20150915T090000
DTEND;TZID=America/New_York:20150915T113000
SUMMARY:"La place de l’économie dans les sciences de la santé"
DESCRIPTION:Conférence présentée par :Roxane Borgès Da Silva\, Ph.D.Professeur adjointe Faculté des sciences infirmières\, Université de MontréalAprès avoir défini les principes de base de l’économie et du domaine de l’économie de la santé\, la...
LOCATION:2375\, chemin de la Côte Ste-Catherine\, Montreal
URL:https://rrisiq.com/fr/evenement/la-place-de-economie-dans-les-sciences-de-la-sante
UID:quid-rrisiq-29
END:VEVENT
END:VCALENDAR