BEGIN:VCALENDAR
VERSION:2.0
CALSCALE:GREGORIAN
METHOD:PUBLISH
BEGIN:VEVENT
DTSTART;TZID=America/New_York:20171128T120000
DTEND;TZID=America/New_York:20171128T133000
SUMMARY:La prescription infirmière au Québec: Description et implantation
DESCRIPTION:Conférence présentée par:Isabelle Brault\, inf. PhD Professeure agrégéeFaculté des sciences infirmièresUniversité de MontréalRésuméLe Règlement sur la prescription infirmière est entré en vigueur le 11 janvier 2016. Ce règlement permet a...
LOCATION:2375 Ch de la Côte-Sainte-Catherine\, Montreal\, QC H3T 1A8
URL:https://rrisiq.com/fr/evenement/la-prescription-infirmiere-au-quebec-description-et-implantation
UID:quid-rrisiq-72
END:VEVENT
END:VCALENDAR