BEGIN:VCALENDAR
VERSION:2.0
CALSCALE:GREGORIAN
METHOD:PUBLISH
BEGIN:VEVENT
DTSTART;TZID=America/New_York:20241015T120000
DTEND;TZID=America/New_York:20241015T130000
SUMMARY:La pupillométrie pour anticiper le délirium à l’unité des soins intensifs
DESCRIPTION:Les principes fondamentaux de la pupillométrie et des paramètres mesurés seront abordés ainsi que les avantages de cette méthode pour détecter les changements subtils de l'état neurologique et pour prévenir le délirium. Le webinaire est offert...
LOCATION:
URL:https://rrisiq.com/fr/evenement/la-pupillometrie-pour-anticiper-le-delirium-unite-des-soins-intensifs
UID:quid-rrisiq-136
END:VEVENT
END:VCALENDAR