BEGIN:VCALENDAR
VERSION:2.0
CALSCALE:GREGORIAN
METHOD:PUBLISH
BEGIN:VEVENT
DTSTART;TZID=America/New_York:20191113T120000
DTEND;TZID=America/New_York:20191113T133000
SUMMARY:LE BUDGET D’ÉTUDE CLINIQUE
DESCRIPTION:Conférence présentée par: Chantal Roy Adjointe au Chef de l'Unité de recherche clinique appliquée (URCA)Centre de recherche du CHU Sainte-Justine. La présentation s’adresse à toute personne intéressée par la question du développement d’un...
LOCATION:2375 Chemin de la Côte Sainte-Catherine\, Montréal
URL:https://rrisiq.com/fr/evenement/le-budget-etude-clinique-2019-11-13
UID:quid-rrisiq-87
END:VEVENT
END:VCALENDAR