BEGIN:VCALENDAR
VERSION:2.0
CALSCALE:GREGORIAN
METHOD:PUBLISH
BEGIN:VEVENT
DTSTART;TZID=America/New_York:20141208T093000
DTEND;TZID=America/New_York:20141208T113000
SUMMARY:Le budget d’étude clinique
DESCRIPTION:Présentée par :Dr Chantal Roy\, MSc MBA PMP CCRPAdjointe\, Chef de l’Unité de recherche clinique appliquée (URCA)et Adjointe au Directeur\, Secteur recherche cliniqueCentre de recherche du CHU Sainte-JustineLa présentation s’adresse à toute...
LOCATION:2375\, chemin de la Côte Ste-CatherineMontréal\, QuébecH3T 1A8
URL:https://rrisiq.com/fr/evenement/le-budget-etude-clinique
UID:quid-rrisiq-25
END:VEVENT
END:VCALENDAR