BEGIN:VCALENDAR
VERSION:2.0
CALSCALE:GREGORIAN
METHOD:PUBLISH
BEGIN:VEVENT
DTSTART;TZID=America/New_York:20241203T090000
DTEND;TZID=America/New_York:20241203T100000
SUMMARY:Le transfert intégré des connaissances : le fondement d’une équipe de recherche
DESCRIPTION:Cette activité vise à présenter les fondements de l’approche d’application intégrée des connaissances sur lesquels s’appuie la vision en transfert de connaissances de l'équipe de la Pre Poitras. Le webinaire est offert gratuitement et est ...
LOCATION:
URL:https://rrisiq.com/fr/evenement/le-transfert-integre-des-connaissances-le-fondement-une-equipe-de-recherche
UID:quid-rrisiq-143
END:VEVENT
END:VCALENDAR