BEGIN:VCALENDAR
VERSION:2.0
CALSCALE:GREGORIAN
METHOD:PUBLISH
BEGIN:VEVENT
DTSTART;TZID=America/New_York:20240923T120000
DTEND;TZID=America/New_York:20240923T130000
SUMMARY:Le vertige du début de carrière en recherche : réflexions pour faciliter cette transition
DESCRIPTION:Cette présentation vise à partager des réflexions issues des succès et des échecs de la conférencière afin de soutenir les futur ·e·s et nouveaux·elles chercheur·e·s dans la transition vers l'établissement d'une carrière de recherche. Le ...
LOCATION:
URL:https://rrisiq.com/fr/evenement/le-vertige-du-debut-de-carriere-en-recherche-reflexions-pour-faciliter-cette-transition
UID:quid-rrisiq-134
END:VEVENT
END:VCALENDAR