BEGIN:VCALENDAR
VERSION:2.0
CALSCALE:GREGORIAN
METHOD:PUBLISH
BEGIN:VEVENT
DTSTART;TZID=America/New_York:20200218T120000
DTEND;TZID=America/New_York:20200218T133000
SUMMARY:Les analyses économiques en sciences infirmières
DESCRIPTION:Conférencier: Éric Tchouaket Professeur agrégé Département des sciences infirmières Université du Québec en Ouatouais. L’analyse économique vise à démontrer l’efficience d’une intervention en comparant les coûts associés à de...
LOCATION:2375\, ch. de la Côte Ste-Catherine\, Montréal
URL:https://rrisiq.com/fr/evenement/les-analyses-economiques-en-sciences-infirmieres
UID:quid-rrisiq-91
END:VEVENT
END:VCALENDAR