BEGIN:VCALENDAR
VERSION:2.0
CALSCALE:GREGORIAN
METHOD:PUBLISH
BEGIN:VEVENT
DTSTART;TZID=America/New_York:20240227T120000
DTEND;TZID=America/New_York:20240227T130000
SUMMARY:Miro Matisiwin : exemples de trois projets réalisés en contexte autochtone
DESCRIPTION:Cette présentation portera sur trois projets distincts et complémentaires en lien avec la santé des Premières Nations en milieu urbain. Les aspects éthiques\, méthodologiques et les différents modes de diffusion des connaissances seront exposés...
LOCATION:
URL:https://rrisiq.com/fr/evenement/miro-matisiwin-exemples-de-trois-projets-realises-en-contexte-autochtone
UID:quid-rrisiq-120
END:VEVENT
END:VCALENDAR