BEGIN:VCALENDAR
VERSION:2.0
CALSCALE:GREGORIAN
METHOD:PUBLISH
BEGIN:VEVENT
DTSTART;TZID=America/New_York:20240305T120000
DTEND;TZID=America/New_York:20240305T130000
SUMMARY:Optimisez vos chances ! Trucs et astuces pour rédiger avec succès une demande de bourse doctorale
DESCRIPTION:Cette présentation s'adresse à la fois aux nouveaux doctorants et à ceux ayant déjà entamé leur parcours doctoral\, désireux d'optimiser leurs chances d'obtenir un financement. Le webinaire est offert gratuitement et est ouvert à toutes et à e...
LOCATION:
URL:https://rrisiq.com/fr/evenement/optimisez-vos-chances-trucs-et-astuces-pour-rediger-avec-succes-une-demande-de-bourse-doctorale
UID:quid-rrisiq-121
END:VEVENT
END:VCALENDAR